Workbook
Name CodigoActividad: #REF!
Name Insumos: #REF!
Name Insumos: Insumos!$A$540:$A$583
Name Ls_DepartamentosSRS: #REF!
Name Ls_LinesEstategica: #REF!
Name Ls_Medio_Verificacion: #REF!
Name ls_Regiones: #REF!
Name ls_TiposAcciones: #REF!
Name lsAcabadosTextiles: Insumos!$C$2:$C$3
Name lsAireAcondicionado: Insumos!$C$333:$C$334
Name lsAlimentosyBebidas: Insumos!$C$4:$C$23
Name lsArticulosdePlastico: Insumos!$C$24:$C$30
Name lsElectrodomesticos: Insumos!$C$31:$C$35
Name lsEquiposComputos: Insumos!$C$132:$C$136
Name lsEquiposMedicos: Insumos!$C$44:$C$131
Name lsEquiposSeguridad: Insumos!$C$137:$C$138
Name lsEquiposTransporte: Insumos!$C$518:$C$520
Name lsEventosGenerales: Insumos!$C$139:$C$141
Name lsFuentesFinanciamiento: #REF!
Name lsGasoil: Insumos!$C$142:$C$149
Name lsHerramientasMenores: Insumos!$C$150:$C$179
Name lsImpresionyEncuadernacion: Insumos!$C$180
Name lsInsumos: #REF!
Name lsInsumosEquipos: #REF!
Name lsLlantasyNeumaticos: Insumos!$C$181:$C$188
Name lsMantenimiento: Insumos!$C$189:$C$202
Name lsMaterialesdeLimpieza: Insumos!$C$203:$C$217
Name lsMueblesdeAlojamiento: Insumos!$C$218:$C$219
Name lsMueblesdeOficina: Insumos!$C$220:$C$243
Name lsObrasMenoresEdificaciones: Insumos!$C$244
Name lsOtrosEquipos: Insumos!$C$245:$C$248
Name lsPeaje: Insumos!$C$249
Name lsPinturas: Insumos!$C$250:$C$251
Name lsProductosArtesGraficas: Insumos!$C$252:$C$253
Name lsProductosdeCemento: Insumos!$C$254
Name lsProductosdeLoza: Insumos!$C$255:$C$257
Name lsProductosdePapel: Insumos!$C$258:$C$282
Name lsProductosdeVidrio: Insumos!$C$283:$C$287
Name lsProductosElectricos: Insumos!$C$288:$C$309
Name lsProductosMedicinalesH: Insumos!$C$310:$C$328
Name lsProductosMetalicos: Insumos!$C$329
Name lsProductosQuimicos: Insumos!$C$330
Name lsPublicidadyPropaganda: Insumos!$C$331
Name lsServiciosTecnicosProfesionales: Insumos!$C$332
Name lsTelecomunicaciones: Insumos!$C$36:$C$43
Name LsTipoEESS: #REF!
Name lsTipoIntervencion: #REF!
Name lsUtilesdeCocina: Insumos!$C$335:$C$346
Name lsUtilesdeOficina: Insumos!$C$347:$C$475
Name lsUtilesMenoresMQ: Insumos!$C$476:$C$513
Name lsViaticosDP: Insumos!$C$514:$C$517
Name Periodo_POA: #REF!
Name Productos: #REF!
Name Provincias: #REF!

Sheet PPNE1
B1: Plan Operativo Anual
B2: Servicio Nacional de Salud
B3: Dirección de Planificación y Desarrollo | K3: 2025 | L3: 2026 | M3: 2027 | N3: 2028
B4: Programación Insumos por Producto Nivel Especializado | K4: Cibao Norte | L4: Cibao Sur | M4: Cibao Nordeste | N4: Cibao Noroeste | O4: Valdesia | P4: El Valle | Q4: Enriquillo | R4: Yuma | S4: Higüamo | T4: Ozama
B5: Año | C5: 2026
A6: Servicio Regional de Salud: | B6: Cibao Norte
A7: CEAS
A8: Productos Terminales | B8: Unidad de Medida | C8: Meta Lograda Año 2024 | D8: Meta Proyectada a Lograr Año 2025 | E8: Meta Proyectada Año 2026 | F8: Programación Trimestral | K8: Meta Lograda actual periodo Año 2025
F9: 1er. Trimestre | G9: 2do. Trimestre | H9: 3er. Trimestre | I9: 4to. Trimestre
A10: Servicio de Consulta Externa | B10: Consultas | C10: =SUM(C11:C12) -> 96480 | D10: =SUM(D11:D12) -> 57200.571 | E10: =SUM(E11:E12) -> 34037.129 | F10: =SUM(F11:F12) -> 6126.6831 | G10: =SUM(G11:G12) -> 11912.995 | H10: =SUM(H11:H12) -> 10211.139 | I10: =SUM(I11:I12) -> 5786.3119 | K10: =SUM(K11:K12) -> 33367
A11: Primera Vez | B11: Consultas | C11: 50203 | D11: =(K11/7)*12 -> 28033.714 | E11: =IF(C11="",0,(D11/C11)*D11) -> 15654.227 | F11: =E11*0.18 -> 2817.7608 | G11: =E11*0.35 -> 5478.9793 | H11: =E11*0.3 -> 4696.268 | I11: =E11*0.17 -> 2661.2185 | K11: 16353
A12: Subsecuente | B12: Consultas | C12: 46277 | D12: =(K12/7)*12 -> 29166.857 | E12: =IF(C12="",0,(D12/C12)*D12) -> 18382.902 | F12: =E12*0.18 -> 3308.9224 | G12: =E12*0.35 -> 6434.0157 | H12: =E12*0.3 -> 5514.8706 | I12: =E12*0.17 -> 3125.0933 | K12: 17014
A13: Servicio de Emergencia | B13: Consultas | C13: =SUM(C14) -> 156722 | D13: =D14 -> 69303.429 | E13: =E14 -> 30646.401 | F13: =F14 -> 5516.3521 | G13: =G14 -> 10726.24 | H13: =H14 -> 9193.9202 | I13: =I14 -> 5209.8881 | K13: =K14 -> 40427
A14: Emergencias | B14: Consultas | C14: 156722 | D14: =(K14/7)*12 -> 69303.429 | E14: =IF(C14="",0,(D14/C14)*D14) -> 30646.401 | F14: =E14*0.18 -> 5516.3521 | G14: =E14*0.35 -> 10726.24 | H14: =E14*0.3 -> 9193.9202 | I14: =E14*0.17 -> 5209.8881 | K14: 40427
A15: Servicio Hospitalización | B15: Egresos | C15: =SUM(C16:C29) -> 6697 | D15: =SUM(D16:D29) -> 1596 | E15: =SUM(E16:E29) -> 6668.512 | F15: =SUM(F16:F29) -> 1200.3322 | G15: =SUM(G16:G29) -> 2253.3022 | H15: =SUM(H16:H29) -> 1931.4019 | I15: =SUM(I16:I29) -> 1094.4611 | K15: =SUM(K16:K29) -> 931
A16: Medicina General | B16: Egresos | C16: 350 | D16: =(K16/7)*12 -> 142.28571 | E16: =IF(C16="",0,(D16/C16)*D16) -> 57.843499 | F16: =E16*0.18 -> 10.41183 | G16: =E16*0.35 -> 20.245224 | H16: =E16*0.3 -> 17.35305 | I16: =E16*0.17 -> 9.8333948 | K16: 83
A17: Cirugia General | B17: Egresos | C17: 436 | D17: =(K17/7)*12 -> 24 | E17: =IF(C17="",0,(D17/C17)*D17) -> 1.3211009 | F17: =E17*0.18 -> 0.23779817 | G17: =E17*0.35 -> 0.46238532 | H17: =E17*0.3 -> 0.39633028 | I17: =E17*0.17 -> 0.22458716 | K17: 14
A18: Ginecología | B18: Egresos | C18: 15 | D18: =(K18/7)*12 -> 63.428571 | E18: =IF(C18="",0,(D18/C18)*D18) -> 268.21224 | F18: =E18*0.18 -> 48.278204 | G18: =E18*0.35 -> 93.874286 | H18: =E18*0.3 -> 80.463673 | I18: =E18*0.17 -> 45.596082 | K18: 37
A19: Obstetricia | B19: Egresos | C19: 1478 | D19: =(K19/7)*12 -> 644.57143 | E19: =IF(C19="",0,(D19/C19)*D19) -> 281.10442 | F19: =E19*0.18 -> 50.598795 | G19: =F19*0.35 -> 17.709578 | H19: =F19*0.3 -> 15.179638 | I19: =F19*0.17 -> 8.6017951 | K19: 376
A20: Pediatria | B20: Egresos | C20: 2230 | D20: =(K20/7)*12 -> 274.28571 | E20: =IF(C20="",0,(D20/C20)*D20) -> 33.736616 | F20: =E20*0.18 -> 6.0725908 | G20: =E20*0.35 -> 11.807816 | H20: =E20*0.3 -> 10.120985 | I20: =E20*0.17 -> 5.7352247 | K20: 160
A21: Cardiologia | B21: Egresos | C21: 1 | D21: =(K21/7)*12 -> 12 | E21: =IF(C21="",0,(D21/C21)*D21) -> 144 | F21: =E21*0.18 -> 25.92 | G21: =E21*0.35 -> 50.4 | H21: =E21*0.3 -> 43.2 | I21: =E21*0.17 -> 24.48 | K21: 7
A22: Gastroenterologia | B22: Egresos | C22: 297 | D22: =(K22/7)*12 -> 15.428571 | E22: =IF(C22="",0,(D22/C22)*D22) -> 0.80148423 | F22: =E22*0.18 -> 0.14426716 | G22: =E22*0.35 -> 0.28051948 | H22: =E22*0.3 -> 0.24044527 | I22: =E22*0.17 -> 0.13625232 | K22: 9
A23: Endocrinologia | B23: Egresos | C23: 165 | D23: =(K23/7)*12 -> 0 | E23: =IF(C23="",0,(D23/C23)*D23) -> 0 | F23: =E23*0.18 -> 0 | G23: =E23*0.35 -> 0 | H23: =E23*0.3 -> 0 | I23: =E23*0.17 -> 0 | K23: 0
A24: Medicina Interna | B24: Egresos | C24: 994 | D24: =(K24/7)*12 -> 34.285714 | E24: =IF(C24="",0,(D24/C24)*D24) -> 1.1826058 | F24: =E24*0.18 -> 0.21286905 | G24: =E24*0.35 -> 0.41391204 | H24: =E24*0.3 -> 0.35478175 | I24: =E24*0.17 -> 0.20104299 | K24: 20
A25: Ortopedia | B25: Egresos | C25: 92 | D25: =(K25/7)*12 -> 12 | E25: =IF(C25="",0,(D25/C25)*D25) -> 1.5652174 | F25: =E25*0.18 -> 0.28173913 | G25: =E25*0.35 -> 0.54782609 | H25: =E25*0.3 -> 0.46956522 | I25: =E25*0.17 -> 0.26608696 | K25: 7
A26: Neumología | B26: Egresos | C26: 273 | D26: =(K26/7)*12 -> 39.428571 | E26: =IF(C26="",0,(D26/C26)*D26) -> 5.6945503 | F26: =E26*0.18 -> 1.0250191 | G26: =E26*0.35 -> 1.9930926 | H26: =E26*0.3 -> 1.7083651 | I26: =E26*0.17 -> 0.96807356 | K26: 23
A27: Cardiología | B27: Egresos | D27: =(K27/7)*12 -> 0 | E27: =IF(C27="",0,(D27/C27)*D27) -> 0 | F27: =E27*0.18 -> 0 | G27: =E27*0.35 -> 0 | H27: =E27*0.3 -> 0 | I27: =E27*0.17 -> 0
A28: Cuidados Intensivos | B28: Egresos | C28: 1 | D28: =(K28/7)*12 -> 75.428571 | E28: =IF(C28="",0,(D28/C28)*D28) -> 5689.4694 | F28: =E28*0.18 -> 1024.1045 | G28: =E28*0.35 -> 1991.3143 | H28: =E28*0.3 -> 1706.8408 | I28: =E28*0.17 -> 967.2098 | K28: 44
A29: Otros | B29: Egresos | C29: 365 | D29: =(K29/7)*12 -> 258.85714 | E29: =IF(C29="",0,(D29/C29)*D29) -> 183.58088 | F29: =E29*0.18 -> 33.044558 | G29: =E29*0.35 -> 64.253307 | H29: =E29*0.3 -> 55.074263 | I29: =E29*0.17 -> 31.208749 | K29: 151
A30: Servicios de Apoyo Diagnóstico | C30: =SUM(C31:C32) -> 156899 | D30: =SUM(D31:D32) -> 146415.43 | E30: =SUM(E31:E32) -> 139506.51 | F30: =SUM(F31:F32) -> 25111.173 | G30: =SUM(G31:G32) -> 48827.28 | H30: =SUM(H31:H32) -> 41851.954 | I30: =SUM(I31:I32) -> 23716.108 | K30: =SUM(K31:K32) -> 85409
A31: Análisis de Laboratorio | B31: Pruebas | C31: 143357 | D31: =(K31/7)*12 -> 139741.71 | E31: =IF(C31="",0,(D31/C31)*D31) -> 136217.6 | F31: =E31*0.18 -> 24519.168 | G31: =E31*0.35 -> 47676.161 | H31: =E31*0.3 -> 40865.28 | I31: =E31*0.17 -> 23156.992 | K31: 81516
A32: Servicio de Imágenes | B32: Imágenes | C32: 13542 | D32: =(K32/7)*12 -> 6673.7143 | E32: =IF(C32="",0,(D32/C32)*D32) -> 3288.9132 | F32: =E32*0.18 -> 592.00437 | G32: =E32*0.35 -> 1151.1196 | H32: =E32*0.3 -> 986.67396 | I32: =E32*0.17 -> 559.11524 | K32: 3893
A33: Indicadores de Producción
A34: Años | B34: Camas Disponibles | C34: Egresos Hospitalarios | D34: Día Cama Disponibles | E34: Dias Pacientes | F34: Promedio Días Estada | G34: Porcentaje Ocupacional | H34: Porcentaje nacimientos prematuros | I34: Porcentaje de cesárea
A35: 2022 | B35: 99 | C35: 5800 | D35: =+B35*365 -> 36135 | F35: =+E35/C35 -> 0 | G35: =+E35/D35*100 -> 0 | H35: 146 | I35: 1153
A36: 2023 | B36: 102 | C36: 5116 | D36: =+B36*365 -> 37230 | F36: =+E36/C36 -> 0 | G36: =+E36/D36*100 -> 0 | H36: 134 | I36: 740
A37: 2024 | B37: 85 | C37: 1710 | D37: =+B37*365 -> 31025 | F37: =+E37/C37 -> 0 | G37: =+E37/D37*100 -> 0 | H37: 66 | I37: 493

Sheet PPNE2
A1: =+[1]PPNE1!$B$1 -> Plan Operativo Anual
A2: Servicio Nacional de Salud
A3: Dirección de Planificación y Desarrollo | K3: Anticipo Financiero
A4: Programación de actividades | K4: Nómina
A5: =[1]PPNE1!$C$5 -> 2026 | K5: Venta Servicios
A6: Servicio Regional de Salud: | K6: Recursos Externos
A7: CEAS:
A8: Resultados Esperados | B8: Productos | C8: Código | D8: Actividades Programables Presupuestables | E8: Ene | F8: Feb | G8: Mar | H8: Abr | I8: May | J8: Jun | K8: Jul | L8: Ago | M8: Sep | N8: Oct | O8: Nov | P8: Dic | Q8: Total de Acciones | R8: Medio de Verificación 1 | S8: Medio de Verificación 2 | T8: Medio de Verificación 3 | U8: Observaciones/ Comentarios | V8: Área Responsable
A9: 1.1 Reducidos los niveles de morbilidad y mortalidad materna e infantil por causas prevenibles en la población materno-infantil del país, disminuyendo la mortalidad materna de 127.33 y la mortalidad infantil de 18.44 en 2023 a 89.13 y 16.56 en 2028 en todas las regiones del territorio nacional. | B9: 1.1.1 Niños, niñas y Adolescentes reciben atención médica y servicios de salud basado en protocolos nacionales e internacionales. | C9: 1.1.1.01 | D9: Fortalecimiento de los Programas Madre Canguro . | E9: 2 | F9: 2 | G9: 1 | H9: 1 | I9: 1 | J9: 2 | K9: 1 | L9: 1 | M9: 2 | N9: 1 | O9: 1 | P9: 2 | Q9: =SUM(E9:P9) -> 17 | T9: Autoevaluación (enero)/ Plan de mejora (febrero)/ Registro Módulo PMC (mensual)/ Avances Plan de mejora (junio, septiembre,diciembre) | U9: Maternidad Nuestra Señora de la Altagracia, Infantil Dr. Robert Reid Cabral, Materno Infantil San Lorenzo de Los Mina, Materno Dr.Reynaldo Almanzar, Materno Dra. Evangelina Rodríguez, Materno Infantil Dr. Marcelino Velez, Hospital Pediátrico Dr. José Manuel Rodriguez Jimenes, Juan Pablo Pina, Infantil Dr. Arturo Grullón, Maternidad Presidente Estrella Ureña, San Vicente de Paul, Jaime Mota, Dr. Antonio Musa, Materno Infantil Nuestra Señora de la Altagracia, Materno Infantil Dr. Francisco A. Gonzalvo, Taiwan 19 de marzo, Dr.Alejandro Cabral, Materno Infantil Dr. José Fco. Peña Gómez, Dr. Luis M. Morillo King | V9: Materno Infantil y Adolescentes | W9: Eliminar no incluye a nuestro hospital
A10: 1.1 Reducidos los niveles de morbilidad y mortalidad materna e infantil por causas prevenibles en la población materno-infantil del país, disminuyendo la mortalidad materna de 127.33 y la mortalidad infantil de 18.44 en 2023 a 89.13 y 16.56 en 2028 en todas las regiones del territorio nacional. | B10: 1.1.1 Niños, niñas y Adolescentes reciben atención médica y servicios de salud basado en protocolos nacionales e internacionales. | C10: 1.1.1.02 | D10: Seguimiento a la Sala Situacional IA | G10: 1 | J10: 1 | M10: 1 | P10: 1 | Q10: =SUM(E10:P10) -> 4 | T10: Reporte digital Módulo Sala Situacional IA | U10: Infantil Dr. Arturo Grullón, Dr. Luis Morillo King, San Vicente de Paul, Materno Infantil Dr. José Francisco Peña Gómez, Juan Pablo Pina, Jaime Mota, Regional Dr. Alejandro Cabral, Taiwan 19 de marzo, Regional Dr. Antonio Musa, Materno Infantil Nuestra Señora de la Altagracia, Materno Infantil Dr. Francisco A. Gonzalvo, Infantil Dr. Robert Reid Cabral, Materno Infantil San Lorenzo de Los Mina, Materno Infantil Dr. Marcelino Vélez Santana, Pediátrico Dr. Hugo Mendoza, Infantil Dr. José Rodriguez Jimenes, Materno Infantil Dr. Julio Rodriguez Grullón, Materno Infantil de Villa Mella | V10: Materno Infantil y Adolescentes | W10: Eliminar no incluye a nuestro hospital
A11: 1.1 Reducidos los niveles de morbilidad y mortalidad materna e infantil por causas prevenibles en la población materno-infantil del país, disminuyendo la mortalidad materna de 127.33 y la mortalidad infantil de 18.44 en 2023 a 89.13 y 16.56 en 2028 en todas las regiones del territorio nacional. | B11: 1.1.1 Niños, niñas y Adolescentes reciben atención médica y servicios de salud basado en protocolos nacionales e internacionales. | C11: 1.1.1.03 | D11: Reporte casos niños asistidos por violencia. | G11: 1 | J11: 1 | M11: 1 | P11: 1 | Q11: =SUM(E11:P11) -> 4 | T11: Registro Sala Situacional/ Formulario de reporte | U11: Infantil Dr. Arturo Grullón, Dr. Luis Morillo King, San Vicente de Paul, Materno Infantil Dr. José Francisco Peña Gómez, Juan Pablo Pina, Jaime Mota, Regional Dr. Alejandro Cabral, Taiwan 19 de marzo, Regional Dr. Antonio Musa, Materno Infantil Nuestra Señora de la Altagracia, Materno Infantil Dr. Francisco A. Gonzalvo, Infantil Dr. Robert Reid Cabral, Materno Infantil San Lorenzo de Los Mina, Materno Infantil Dr. Marcelino Vélez Santana, Pediátrico Dr. Hugo Mendoza, Infantil Dr. José Rodriguez Jimenes, Materno Infantil Dr. Julio Rodriguez Grullón, Materno Infantil de Villa Mella | V11: Materno Infantil y Adolescentes | W11: eliminar no incluye a nuestro hospital
A12: 1.2.2 Garantizada la atención integral con calidad y oportunidad, mediante la coordinación clínica y asistencial de los servicios de salud | B12: 1.2.2.2 Provisión de servicios de Salud Materno, Infantil y Adolescentes de Calidad | C12: 1.2.2.2.04 | D12: Fortalecimiento en la atención a pacientes criticos (emergencia y UCIP) | G12: 1 | J12: 1 | M12: 1 | P12: 1 | Q12: 4 | R12: Informe | V12: Pediatría Neonatología
A13: 1.2.2 Garantizada la atención integral con calidad y oportunidad, mediante la coordinación clínica y asistencial de los servicios de salud | B13: 1.2.2.2 Provisión de servicios de Salud Materno, Infantil y Adolescentes de Calidad | C13: 1.2.2.2.06 | D13: Seguimiento a la cobertura de vacunas del recien nacido y la aplicación en menores de 5 años | E13: 1 | F13: 1 | G13: 1 | H13: 1 | I13: 1 | J13: 1 | K13: 1 | L13: 1 | M13: 1 | N13: 1 | O13: 1 | P13: 1 | Q13: 12 | R13: Otros | T13: Matriz de vacuna | V13: Pediatría Neonatología
A14: 1.2.2 Garantizada la atención integral con calidad y oportunidad, mediante la coordinación clínica y asistencial de los servicios de salud | B14: 1.2.2.2 Provisión de servicios de Salud Materno, Infantil y Adolescentes de Calidad | C14: 1.2.2.2.07 | D14: Seguimiento al uso y correcto llenado de la Cédula de Salud del niño/niña. | G14: 1 | J14: 1 | M14: 1 | P14: 1 | Q14: 4 | R14: Reporte | V14: Pediatría Neonatología
A15: 1.1 Reducidos los niveles de morbilidad y mortalidad materna e infantil por causas prevenibles en la población materno-infantil del país, disminuyendo la mortalidad materna de 127.33 y la mortalidad infantil de 18.44 en 2023 a 89.13 y 16.56 en 2028 en todas las regiones del territorio nacional. | B15: 1.1.1 Niños, niñas y Adolescentes reciben atención médica y servicios de salud basado en protocolos nacionales e internacionales. | C15: 1.1.1.04 | D15: Elaboración e implementación del plan de mejora para fortalecimiento de las Unidades de Atención Integrales en Salud para personas Adolescentes | E15: 1 | H15: 1 | K15: 1 | N15: 1 | Q15: =SUM(E15:P15) -> 4 | T15: Plan (elaboración enero) Seguimiento (abril, julio, octubre) | U15: Pediátrico Dr. Hugo Mendoza, Pediátrico Dr. Robert Reid Cabral, Materno Infantil San Lorenzo de Los Mina, Municipal Materno Infantil Villa Mella, Infantil Dr. Arturo Grullón, Dr. Ricardo Limardo, Maternidad Infantil Nuestra Señora de la Altagracia (Higuey), Dr. Luis Manuel Morillo King, Juan Pablo Pina, Materno Infantil Dr.Francisco Gonzalvo, San Vicente de Paúl, Dr.Antonio Musa, Jaime Mota, Materno Infantil Dr. Marcelino Vélez, Centro Dr. Nelson Astacio | V15: Materno Infantil y Adolescentes | W15: Eliminar no incluye a nuestro hospital
A16: 1.2.2 Garantizada la atención integral con calidad y oportunidad, mediante la coordinación clínica y asistencial de los servicios de salud | B16: 1.2.2.2 Provisión de servicios de Salud Materno, Infantil y Adolescentes de Calidad | C16: 1.2.2.2.01 | D16: Implementación y seguimiento a la Sala Situacional Infanto Adolescente. | G16: 1 | J16: 1 | M16: 1 | P16: 1 | Q16: 4 | R16: Informe trimestral | S16: Plan de mejora | T16: Autoevaluación/ Módulo de registro/ Plan de Mejora | U16: (Acompañamiento en la elaboración e implemtación de planes de mejora, autoevaluación y apego a los protocolos). VER CRONOGRAMA DE VISITAS CEAS Provinciales Evaluación marzo, implementación primer informe junio y final noviembre . Para implementación norcentral no aplica y para la metropolitana hospitales pediatricos y materno infantiles donde no se implementa. | V16: Pediatría/adolecentes Neonatología
A17: 1.2.2 Garantizada la atención integral con calidad y oportunidad, mediante la coordinación clínica y asistencial de los servicios de salud | B17: 1.2.2.2 Provisión de servicios de Salud Materno, Infantil y Adolescentes de Calidad | C17: 1.2.2.2.05 | D17: Fortalecimiento en la atención a NNA asistidos por violencia. | G17: 1 | J17: 1 | M17: 1 | P17: 1 | Q17: 4 | R17: Reporte | V17: Pediatría/adolecentes Neonatología
A18: 1.2.2 Garantizada la atención integral con calidad y oportunidad, mediante la coordinación clínica y asistencial de los servicios de salud | B18: 1.2.2.2 Provisión de servicios de Salud Materno, Infantil y Adolescentes de Calidad | C18: 1.2.2.2.08 | D18: Fortalecimiento de las condiciones esenciales para la atención a personas adolescentes | G18: 1 | J18: 1 | M18: 1 | P18: 1 | Q18: 4 | R18: Plan | S18: Informe | U18: Deben presentar el plan al inicio, luego deben presentar el seguimiento a la ejecucion, mediante un informe al junto del plan | V18: Pediatría/adolecentes Neonatología
A19: 1.1 Reducidos los niveles de morbilidad y mortalidad materna e infantil por causas prevenibles en la población materno-infantil del país, disminuyendo la mortalidad materna de 127.33 y la mortalidad infantil de 18.44 en 2023 a 89.13 y 16.56 en 2028 en todas las regiones del territorio nacional. | B19: 1.1.1 Niños, niñas y Adolescentes reciben atención médica y servicios de salud basado en protocolos nacionales e internacionales. | C19: 1.1.1.05 | D19: Reporte de la Planificación familiar en Adolescentes | E19: 1 | F19: 1 | G19: 1 | H19: 1 | I19: 1 | J19: 1 | K19: 1 | L19: 1 | M19: 1 | N19: 1 | O19: 1 | P19: 1 | Q19: =SUM(E19:P19) -> 12 | T19: Reporte | U19: Hospitales que asisten Adolecentes | V19: Materno Infantil y Adolescentes
A20: 1.1 Reducidos los niveles de morbilidad y mortalidad materna e infantil por causas prevenibles en la población materno-infantil del país, disminuyendo la mortalidad materna de 127.33 y la mortalidad infantil de 18.44 en 2023 a 89.13 y 16.56 en 2028 en todas las regiones del territorio nacional. | B20: 1.1.2 Recién nacidos reciben atención medica y servicios de salud neonatal basados en protocolos y normas nacionales e internacionales | C20: 1.2.2.01 | D20: Vigilanica sanitaria del agua en las UCIN del SNS | J20: 1 | P20: 1 | Q20: =SUM(E20:P20) -> 2 | R20: Reporte | U20: Maternidad Nuestra Señora de la Altagracia , Materno Infantil San Lorenzo de los Mina, Materno Dr. Reynaldo Almánzar, Materno Infantil Dr. Marcelino Vélez, Maternidad Presidente Estrella Ureña, Materno Infantil Nuestra Señora de la Altagracia (Higuey), Juan Pablo Pina, San Vicente de Paul, Dr. Luis M. Morillo King, Infantil Dr.Robert Reid Cabral, Maternidad Dra.Evangelina Rodriguez, Materno Infantil Dr. José Fco.Peña Gomez, Jaime Mota, Dr. Antonio Musa, Infantil Dr. Arturo Grullon, Materno Infantil Dr. José Rodriguez Grullón (Ciudad Sanitaria), Pediatrico Dr.Hugo Mendoza, Taiwan 19 de marzo, Dr. Alejandro Cabral | V20: Materno Infantil y Adolescentes | W20: Eliminar no incluye a nuestro hospital
A21: 1.1 Reducidos los niveles de morbilidad y mortalidad materna e infantil por causas prevenibles en la población materno-infantil del país, disminuyendo la mortalidad materna de 127.33 y la mortalidad infantil de 18.44 en 2023 a 89.13 y 16.56 en 2028 en todas las regiones del territorio nacional. | B21: 1.1.2 Recién nacidos reciben atención medica y servicios de salud neonatal basados en protocolos y normas nacionales e internacionales | C21: 1.2.2.02 | D21: Monitoreo del registro en línea del Certificado de Nacido Vivo | E21: 1 | F21: 1 | G21: 1 | H21: 1 | I21: 1 | J21: 1 | K21: 1 | L21: 1 | M21: 1 | N21: 1 | O21: 1 | P21: 1 | Q21: =SUM(E21:P21) -> 12 | R21: Reporte | U21: Todos los CEAS donde se producen nacimientos | V21: Materno Infantil y Adolescentes
A22: 1.2 Aumentado el cumplimiento normativo para reducir la incidencia de complicaciones neonatales y maternas, pasando de un promedio del 75.5% en el año 2023 al 88% en el año 2028 en todas las regiones de la Red Pública de Servicios de Salud. | B22: 1.2.1 Gestantes reciben atención médica y servicios de salud materna basados en protocolos y normas nacionales e internacionales. | C22: 1.2.1.01 | D22: Seguimiento de la Morbilidad Materna Extrema | F22: 1 | G22: 1 | H22: 1 | I22: 1 | J22: 1 | K22: 1 | L22: 1 | M22: 1 | N22: 1 | O22: 1 | Q22: =SUM(E22:P22) -> 10 | R22: Informe | U22: Todos los hospitales regionales, maternos, materno infantil, que ofrecen servicios maternos | V22: Materno Infantil y Adolescentes
A23: 1.2 Aumentado el cumplimiento normativo para reducir la incidencia de complicaciones neonatales y maternas, pasando de un promedio del 75.5% en el año 2023 al 88% en el año 2028 en todas las regiones de la Red Pública de Servicios de Salud. | B23: 1.2.1 Gestantes reciben atención médica y servicios de salud materna basados en protocolos y normas nacionales e internacionales. | C23: 1.2.1.02 | D23: Análisis de los indicadores Maternos Neonatales de la Sala Situacional | G23: 1 | J23: 1 | M23: 1 | P23: 1 | Q23: =SUM(E23:P23) -> 4 | R23: Informe | T23: Plantilla estandarizada | U23: Todos los CEAS regionales, especializados y de referencia que ofrezcan servicios maternos | V23: Materno Infantil y Adolescentes
A24: 1.2 Aumentado el cumplimiento normativo para reducir la incidencia de complicaciones neonatales y maternas, pasando de un promedio del 75.5% en el año 2023 al 88% en el año 2028 en todas las regiones de la Red Pública de Servicios de Salud. | B24: 1.2.1 Gestantes reciben atención médica y servicios de salud materna basados en protocolos y normas nacionales e internacionales. | C24: 1.2.1.03 | D24: Seguimiento a la implementacion de la Estrategia Código Rojo. | G24: 1 | J24: 1 | M24: 1 | P24: 1 | Q24: =SUM(E24:P24) -> 4 | R24: Informe | S24: Listado de participación | U24: Todos los hospitales regionales, maternos y materno infantil que ofrecen servicios maternos | V24: Materno Infantil y Adolescentes
A25: 1.2 Aumentado el cumplimiento normativo para reducir la incidencia de complicaciones neonatales y maternas, pasando de un promedio del 75.5% en el año 2023 al 88% en el año 2028 en todas las regiones de la Red Pública de Servicios de Salud. | B25: 1.2.1 Gestantes reciben atención médica y servicios de salud materna basados en protocolos y normas nacionales e internacionales. | C25: 1.2.1.04 | D25: Seguimiento al tamizaje de infecciones vaginales y urinarias en la embarazada | G25: 1 | J25: 1 | N25: 1 | Q25: =SUM(E25:P25) -> 3 | R25: Informe | U25: Materno Dr. Reynaldo Almanzar, Maternidad Nuestra Señora de la Altagracia, Materno Infantil San Lorenzo de los Mina, Maternidad Presidente Estrella Ureña | V25: Materno Infantil y Adolescentes | W25: Eliminar no incluye a nuestro hospital
A26: 1.2 Aumentado el cumplimiento normativo para reducir la incidencia de complicaciones neonatales y maternas, pasando de un promedio del 75.5% en el año 2023 al 88% en el año 2028 en todas las regiones de la Red Pública de Servicios de Salud. | B26: 1.2.1 Gestantes reciben atención médica y servicios de salud materna basados en protocolos y normas nacionales e internacionales. | C26: 1.2.1.05 | D26: Elaboracion de los planes de mejora de la metodología de Observación de la Práctica Clínica (OPC) según los resultados del monitoreo de calidad de los servicios en los CEAS priorizados | I26: 1 | N26: 1 | Q26: =SUM(E26:P26) -> 2 | R26: Plan | S26: Listado de participación | U26: CEAS PRIORIZADOS SRS Ozama 1. Hospital Materno Dr. Reynaldo Almánzar 2. Hospital Maternidad Nuestra Señora de la Altagracia 3. Hospital Materno Infantil San Lorenzo de los Mina 4. Hospital Materno Dra. Evangelina Rodríguez 5. ⁠Hospital Materno Infantil Dr. Marcelino Vélez Santana 6. Hospital Materno Infantil Dr. Julio Rodriguez Grullón SRS Valdesia 7.Hospital Regional Juan Pablo Pina SRS Cibao Norte 8. Hospital Maternidad Presidente Estrella Ureña SRS Cibao Nordeste 9. Hospital Regional San Vicente de Paul SRS Enriquillo 10. Hospital Regional Jaime Mota SRS Higuamo 11. Hospital Materno Infantil Nuestra Señora de la Altagracia 12. Hospital Materno Infantil Dr. Francisco Gonzalvo. SRS Yuma 13. Hospital Regional Dr. Antonio Musa SRS El Valle 14. Hospital Regional Dr. Alejandro Cabral 15. Hospital Regional Taiwán 19 de marzo SRS Cibao Noroeste 16. Hospital Materno Infantil Dr.José Francisco Peña Gómez SRS Cibao Sur 17. Hospital Regional Dr. Luis Morillo King | V26: Materno Infantil y Adolescentes | W26: Eliminar no incluye a nuestro hospital
A27: 1.2 Aumentado el cumplimiento normativo para reducir la incidencia de complicaciones neonatales y maternas, pasando de un promedio del 75.5% en el año 2023 al 88% en el año 2028 en todas las regiones de la Red Pública de Servicios de Salud. | B27: 1.2.1 Gestantes reciben atención médica y servicios de salud materna basados en protocolos y normas nacionales e internacionales. | C27: 1.2.1.06 | D27: Seguimiento a la Planificación Post Evento Obstétrico | H27: 1 | L27: 1 | O27: 1 | Q27: =SUM(E27:P27) -> 3 | R27: Informe | U27: CEAS PRIORIZADOS SRS Ozama 1. Hospital Materno Dr. Reynaldo Almánzar 2. Hospital Maternidad Nuestra Señora de la Altagracia 3. Hospital Materno Infantil San Lorenzo de los Mina 4. Hospital Materno Dra. Evangelina Rodríguez 5. ⁠Hospital Materno Infantil Dr. Marcelino Vélez Santana 6. Hospital Materno Infantil Dr. Julio Rodriguez Grullón SRS Valdesia 7.Hospital Regional Juan Pablo Pina SRS Cibao Norte 8. Hospital Maternidad Presidente Estrella Ureña SRS Cibao Nordeste 9. Hospital Regional San Vicente de Paul SRS Enriquillo 10. Hospital Regional Jaime Mota SRS Higuamo 11. Hospital Materno Infantil Nuestra Señora de la Altagracia 12. Hospital Materno Infantil Dr. Francisco Gonzalvo. SRS Yuma 13. Hospital Regional Dr. Antonio Musa SRS El Valle 14. Hospital Regional Dr. Alejandro Cabral 15. Hospital Regional Taiwán 19 de marzo SRS Cibao Noroeste 16. Hospital Materno Infantil Dr.José Francisco Peña Gómez SRS Cibao Sur 17. Hospital Regional Dr. Luis Morillo King | V27: Materno Infantil y Adolescentes | W27: Eliminar no incluye a nuestro hospital
A28: 1.1.3 Reducida la morbi-mortalidad de las enfermedades transmisibles, incluidas la infección por el VIH/SIDA, la Tuberculosis, las infecciones de transmisión sexual, las hepatitis virales, enfermedades transmitidas por vectores, enfermedades desatendidas, tropicales y zoonóticas, y las enfermedades prevenibles mediante vacunación; con especial atención en las poblaciones vulnerables | B28: 1.1.3.1 Aumento de la provisión de servicios de salud sexual y reproductiva en la Red SNS | C28: 1.1.3.1.09 | D28: Seguimiento y reporte de los casos de Sepsis Materna | E28: 1 | F28: 1 | G28: 1 | H28: 1 | I28: 1 | J28: 1 | K28: 1 | L28: 1 | M28: 1 | N28: 1 | O28: 1 | P28: 1 | Q28: 12 | R28: Reporte | V28: Materno-Neonatal
A29: 1.2 Aumentado el cumplimiento normativo para reducir la incidencia de complicaciones neonatales y maternas, pasando de un promedio del 75.5% en el año 2023 al 88% en el año 2028 en todas las regiones de la Red Pública de Servicios de Salud. | B29: 1.2.1 Gestantes reciben atención médica y servicios de salud materna basados en protocolos y normas nacionales e internacionales. | C29: 1.2.1.07 | D29: Monitoreo al apego a protocolo de atencion en consulta prenatal. | I29: 1 | N29: 1 | Q29: =SUM(E29:P29) -> 2 | R29: Informe | U29: CEAS PRIORIZADOS SRS Ozama 1. Hospital Materno Dr. Reynaldo Almánzar 2. Hospital Maternidad Nuestra Señora de la Altagracia 3. Hospital Materno Infantil San Lorenzo de los Mina 4. Hospital Materno Dra. Evangelina Rodríguez 5. ⁠Hospital Materno Infantil Dr. Marcelino Vélez Santana 6. Hospital Materno Infantil Dr. Julio Rodriguez Grullón SRS Valdesia 7.Hospital Regional Juan Pablo Pina SRS Cibao Norte 8. Hospital Maternidad Presidente Estrella Ureña SRS Cibao Nordeste 9. Hospital Regional San Vicente de Paul SRS Enriquillo 10. Hospital Regional Jaime Mota SRS Higuamo 11. Hospital Materno Infantil Nuestra Señora de la Altagracia 12. Hospital Materno Infantil Dr. Francisco Gonzalvo. SRS Yuma 13. Hospital Regional Dr. Antonio Musa SRS El Valle 14. Hospital Regional Dr. Alejandro Cabral 15. Hospital Regional Taiwán 19 de marzo SRS Cibao Noroeste 16. Hospital Materno Infantil Dr.José Francisco Peña Gómez SRS Cibao Sur 17. Hospital Regional Dr. Luis Morillo King | V29: Materno Infantil y Adolescentes | W29: Eliminar no incluye a nuestro hospital
A30: 1.5 Reducida la morbilidad y mortalidad prematura por enfermedades no transmisibles en personas de 30 a 69 años, en un 20% al año 2028, mediante la implementación de intervenciones integrales de prevención, diagnóstico temprano y tratamiento oportuno en los establecimientos de la Red Pública. | B30: 1.5.2 Las víctimas de violencia de género e intrafamiliar reciben atención integral, oportuna y segura en los servicios de salud. | C30: 1.5.2.01 | D30: Reporte de estadísticas de los casos de violencia de género e intrafamiliar. | E30: 1 | F30: 1 | G30: 1 | H30: 1 | I30: 1 | J30: 1 | K30: 1 | L30: 1 | M30: 1 | N30: 1 | O30: 1 | P30: 1 | Q30: =SUM(E30:P30) -> 12 | R30: Reporte | V30: Género
A31: 1.6 Incrementado el acceso oportuno a servicios de salud de calidad, aumentando el acceso a servicios preventivos de 2.23% de la población prioritaria en 2023 al 5.24% en 2028 en todas las regiones del país. | B31: 1.6.5 La población usuaria recibe servicios odontológicos fortalecidos y de calidad mediante la ejecución de planes de mejora de la atención dental. | C31: 1.6.5.01 | D31: Capacitaciones a RRHH de las areas de odontología de acuerdo a las necesidades. | G31: 1 | J31: 1 | M31: 1 | Q31: =SUM(E31:P31) -> 3 | R31: Listado de participación | S31: Plan | V31: Odontología
A32: 1.6 Incrementado el acceso oportuno a servicios de salud de calidad, aumentando el acceso a servicios preventivos de 2.23% de la población prioritaria en 2023 al 5.24% en 2028 en todas las regiones del país. | B32: 1.6.5 La población usuaria recibe servicios odontológicos fortalecidos y de calidad mediante la ejecución de planes de mejora de la atención dental. | C32: 1.6.5.02 | D32: Desarrollo de plan de acciones para el acondicionamiento de infraestructura, mantenimiento de equipos y equipamiento de las áreas de odontología EES | G32: 1 | J32: 1 | M32: 1 | O32: 1 | Q32: =SUM(E32:P32) -> 4 | R32: Informe | S32: Plan | V32: Odontología
A33: 1.6 Incrementado el acceso oportuno a servicios de salud de calidad, aumentando el acceso a servicios preventivos de 2.23% de la población prioritaria en 2023 al 5.24% en 2028 en todas las regiones del país. | B33: 1.6.5 La población usuaria recibe servicios odontológicos fortalecidos y de calidad mediante la ejecución de planes de mejora de la atención dental. | C33: 1.6.5.03 | D33: Desarrollo del Programa Fomento de la Salud bucal. | H33: 1 | L33: 1 | N33: 1 | Q33: =SUM(E33:P33) -> 3 | R33: Informe | V33: Odontología
A34: 1.6 Incrementado el acceso oportuno a servicios de salud de calidad, aumentando el acceso a servicios preventivos de 2.23% de la población prioritaria en 2023 al 5.24% en 2028 en todas las regiones del país. | B34: 1.6.5 La población usuaria recibe servicios odontológicos fortalecidos y de calidad mediante la ejecución de planes de mejora de la atención dental. | C34: 1.6.5.04 | D34: Desarrollo del Programa Hospitales libre de caries | H34: 1 | M34: 1 | Q34: =SUM(E34:P34) -> 2 | R34: Informe | V34: Odontología
A35: 1.7 Aumentada la disponibilidad de medicamentos esenciales en los establecimientos de la Red Pública de Servicios de Salud, incrementando el cumplimiento promedio de abastecimiento del 88% en 2023 al 93% en 2028 en todas las regiones del país. | B35: 1.7.1 Pacientes reciben medicamentos esenciales para el tratamiento adecuado y oportuno de sus condiciones de salud. | C35: 1.7.1.01 | D35: Reunión Comité Farmaco Terapeutico (CFT) Hospitalario y promoción del uso racional de los medicamentos. | E35: 1 | H35: 1 | K35: 1 | N35: 1 | Q35: =SUM(E35:P35) -> 4 | R35: Listado de participación | S35: Minuta | V35: Medicamentos
A36: 1.8 Superadas las deficiencias en la organización e implementación de las Redes Integradas de Servicios de Salud (RISS) beneficiando a toda la población que utiliza los servicios de salud de la Red Pública, aumentando del 38% en 2023 al 50% en 2028 en todo el territorio nacional. | B36: 1.8.2 La población recibe acceso equitativo a servicios de salud, incluidos los de emergencia, de calidad, seguros, integrales, continuos e inclusivos, mediante redes integradas que incorporan mejora continua de procesos y avances tecnológicos. | C36: 1.8.2.01 | D36: Implementación del Modelo hospitalario y flujos de Asistencia Emergencias y Urgencias | J36: 1 | Q36: =SUM(E36:P36) -> 1 | R36: Reporte | V36: Emergencia
A37: 1.8 Superadas las deficiencias en la organización e implementación de las Redes Integradas de Servicios de Salud (RISS) beneficiando a toda la población que utiliza los servicios de salud de la Red Pública, aumentando del 38% en 2023 al 50% en 2028 en todo el territorio nacional. | B37: 1.8.2 La población recibe acceso equitativo a servicios de salud, incluidos los de emergencia, de calidad, seguros, integrales, continuos e inclusivos, mediante redes integradas que incorporan mejora continua de procesos y avances tecnológicos. | C37: 1.8.2.02 | D37: Socializacion e implementación del RAC-Triaje en las Salas de Emergencias Centros Hospitalarios | J37: 1 | O37: 1 | Q37: =SUM(E37:P37) -> 2 | R37: Listado de participación | S37: Reporte | V37: Emergencia
A38: 1.8 Superadas las deficiencias en la organización e implementación de las Redes Integradas de Servicios de Salud (RISS) beneficiando a toda la población que utiliza los servicios de salud de la Red Pública, aumentando del 38% en 2023 al 50% en 2028 en todo el territorio nacional. | B38: 1.8.2 La población recibe acceso equitativo a servicios de salud, incluidos los de emergencia, de calidad, seguros, integrales, continuos e inclusivos, mediante redes integradas que incorporan mejora continua de procesos y avances tecnológicos. | C38: 1.8.2.03 | D38: Llenado de historia clinica de emergencias y registro de todos los pacientes del libro de emergencias | G38: 1 | J38: 1 | M38: 1 | Q38: =SUM(E38:P38) -> 3 | R38: Reporte | V38: Emergencia
A39: 1.8 Superadas las deficiencias en la organización e implementación de las Redes Integradas de Servicios de Salud (RISS) beneficiando a toda la población que utiliza los servicios de salud de la Red Pública, aumentando del 38% en 2023 al 50% en 2028 en todo el territorio nacional. | B39: 1.8.2 La población recibe acceso equitativo a servicios de salud, incluidos los de emergencia, de calidad, seguros, integrales, continuos e inclusivos, mediante redes integradas que incorporan mejora continua de procesos y avances tecnológicos. | C39: 1.8.2.04 | D39: Implementación del procedimiento para la entrega, recibo y reposicion de carro de paro | J39: 1 | O39: 1 | Q39: =SUM(E39:P39) -> 2 | T39: Formularios de verificacion de Carro de paro (Apertura, Stock y Verificacion de desfibrilador) | V39: Emergencia
A40: 1.8 Superadas las deficiencias en la organización e implementación de las Redes Integradas de Servicios de Salud (RISS) beneficiando a toda la población que utiliza los servicios de salud de la Red Pública, aumentando del 38% en 2023 al 50% en 2028 en todo el territorio nacional. | B40: 1.8.2 La población recibe acceso equitativo a servicios de salud, incluidos los de emergencia, de calidad, seguros, integrales, continuos e inclusivos, mediante redes integradas que incorporan mejora continua de procesos y avances tecnológicos. | C40: 1.8.2.05 | D40: Registros en el tablero de Indicadores de Gestión de las Salas de Emergencias de los Centros de Salud. | J40: 1 | N40: 1 | Q40: =SUM(E40:P40) -> 2 | R40: Reporte | V40: Emergencia
...

Sheet Sheet1
E2: Informe | F2: 1.1 Reducidos los niveles de morbilidad y mortalidad materna e infantil por causas prevenibles en la población materno-infantil del país, disminuyendo la mortalidad materna de 127.33 y la mortalidad infantil de 18.44 en 2023 a 89.13 y 16.56 en 2028 en todas las regiones del territorio nacional.
E3: Listado de participación | F3: 1.2 Aumentado el cumplimiento normativo para reducir la incidencia de complicaciones neonatales y maternas, pasando de un promedio del 75.5% en el año 2023 al 88% en el año 2028 en todas las regiones de la Red Pública de Servicios de Salud.
E4: Fotos | F4: 1.3 Reducido el embarazo en adolescentes atendidas en los establecimientos de la Red Pública en un 20% al año 2028, mediante el fortalecimiento del acceso a servicios integrales de salud sexual y reproductiva.
E5: Agenda | F5: 1.4 Disminuida la proporción de partos por cesárea en hospitales del sector público pasando de 48.83 en el 2023 a 34 en el 2028.
E6: Plan | F6: 1.5 Reducida la morbilidad y mortalidad prematura por enfermedades no transmisibles en personas de 30 a 69 años, en un 20% al año 2028, mediante la implementación de intervenciones integrales de prevención, diagnóstico temprano y tratamiento oportuno en los establecimientos de la Red Pública.
E7: Protocolo | F7: 1.6 Incrementado el acceso oportuno a servicios de salud de calidad, aumentando el acceso a servicios preventivos de 2.23% de la población prioritaria en 2023 al 5.24% en 2028 en todas las regiones del país.
E8: Manual | F8: 1.7 Aumentada la disponibilidad de medicamentos esenciales en los establecimientos de la Red Pública de Servicios de Salud, incrementando el cumplimiento promedio de abastecimiento del 88% en 2023 al 93% en 2028 en todas las regiones del país.
E9: Resolución | F9: 1.8 Superadas las deficiencias en la organización e implementación de las Redes Integradas de Servicios de Salud (RISS) beneficiando a toda la población que utiliza los servicios de salud de la Red Pública, aumentando del 38% en 2023 al 50% en 2028 en todo el territorio nacional.
E10: Boletin | F10: 1.9 Fortalecida la implementación del Modelo de Atención en Salud beneficiando a la población usuaria del primer nivel de atención, incrementando la adscripción del 7% en 2023 al 80% en 2028, en todas las regiones del país.
E11: Reporte | F11: 1.10 Mejorada la distribución y presencia del Primer Nivel de Atención respecto a la sectorización, incrementando la presencia del Primer Nivel del 70% en 2023 al 71% en 2028 en todas las regiones del territorio nacional.
E12: Minuta | F12: 1.11 Fortalecida la continuidad en la atención de las puérperas y recién nacidos, aumentando la captación oportuna del 30% en 2023 al 50% en 2028 en el Primer Nivel de Atención.
E13: Hoja de supervisión | F13: 1.12 Superadas las deficiencias en la organización e implementación de las Redes Integradas de Servicios de Salud (RISS) beneficiando a toda la población que utiliza los servicios de salud de la Red Pública, aumentando del 38% en 2023 al 50% en 2028 en todo el territorio nacional.
... E20: Otros | F20: 3.4 Alcanzado un cumplimiento mínimo del 90% de las metas de planificación y ejecución presupuestaria, optimizando la asignación y uso de recursos.
F21: 3.5 Atendidas las solicitudes de información recibidas en los plazos establecidos, con reportes de cumplimiento mensual y mecanismos de retroalimentación al usuario.
F22: 3.6 Registradas y procesadas en el Sistema Electrónico de Compras Públicas las adquisiciones y contrataciones institucionales y de la Red Pública.
F23: 3.7 Incrementando progresivamente el índice de uso de las TIC y Gobierno Digital en la Red Pública de Servicios de Salud.
F24: 3.8 Implementados y operativos los controles internos definidos por las NOBACI, con revisiones de cumplimiento semestrales y planes de mejora continua.
F25: 3.9 Instalaciones físicas remodeladas y equipadas conforme a estándares de centros de salud incrementando su capacidad resolutiva.
F26: 3.10 Implementado un sistema integral de medición y gestión de la satisfacción de usuarios, con reportes trimestrales y planes de mejora continua para elevar la calidad percibida de los servicios públicos.

Sheet PPNE2.1
O1: Venta Servicios
G2: Servicio Nacional de Salud | S2: Anticipo Financiero
G3: Dirección de Planificación y Desarrollo | S3: Venta de Servicios
G4: Programación de Insumos | S4: Donaciones
J5: =+PPNE1!C5 -> 2026
G6: CEAS | H6: =+PPNE1!B7 -> 0
B7: ID_Dependendencia | C7: POA | D7: SRS | E7: AREA | F7: TIPO | G7: Código_Actividad | H7: Insumos | I7: Unidad de Medida | J7: Cantidad de Insumos | K7: Precio Unitario | L7: Valor Total | M7: Código Presupuestario | N7: Fuente de Financiamiento
B8: =IF(Tabla1[[#This Row],[Código_Actividad]]="","",CONCATENATE(Tabla1[[#This Row],[POA]],".",Tabla1[[#This Row],[SRS]],".",Tabla1[[#This Row],[AREA]],".",Tabla1[[#This Row],[TIPO]])) -> ... | G8: 1.2.2.2.04 | H8: FOLDER | I8: CAJA | J8: 1 | K8: 350 | L8: =+[3]!Tabla1[[#This Row],[Precio Unitario]]*[3]!Tabla1[[#This Row],[Cantidad de Insumos]] -> 350 | M8: 239301 | N8: venta de servicios
B9: =IF(Tabla1[[#This Row],[Código_Actividad]]="","",CONCATENATE(Tabla1[[#This Row],[POA]],".",Tabla1[[#This Row],[SRS]],".",Tabla1[[#This Row],[AREA]],".",Tabla1[[#This Row],[TIPO]])) -> ... | G9: 1.2.2.2.04 | H9: PAPEL BOND | I9: RESMA | J9: 8 | K9: 300 | L9: =+[3]!Tabla1[[#This Row],[Precio Unitario]]*[3]!Tabla1[[#This Row],[Cantidad de Insumos]] -> 2400 | M9: 239301 | N9: venta de servicios
B10: =IF(Tabla1[[#This Row],[Código_Actividad]]="","",CONCATENATE(Tabla1[[#This Row],[POA]],".",Tabla1[[#This Row],[SRS]],".",Tabla1[[#This Row],[AREA]],".",Tabla1[[#This Row],[TIPO]])) -> ... | G10: 1.2.2.2.04 | H10: LAPICEROS AZUL | I10: CAJA | J10: 5 | K10: 200 | L10: =+[3]!Tabla1[[#This Row],[Precio Unitario]]*[3]!Tabla1[[#This Row],[Cantidad de Insumos]] -> 1000 | M10: 239301 | N10: venta de servicios
B11: =IF(Tabla1[[#This Row],[Código_Actividad]]="","",CONCATENATE(Tabla1[[#This Row],[POA]],".",Tabla1[[#This Row],[SRS]],".",Tabla1[[#This Row],[AREA]],".",Tabla1[[#This Row],[TIPO]])) -> ... | G11: 1.2.2.2.04 | H11: LAPICEROS NEGRO | I11: CAJA | J11: 5 | K11: 200 | L11: =+[3]!Tabla1[[#This Row],[Precio Unitario]]*[3]!Tabla1[[#This Row],[Cantidad de Insumos]] -> 1000 | M11: 239301 | N11: venta de servicios
B12: =IF(Tabla1[[#This Row],[Código_Actividad]]="","",CONCATENATE(Tabla1[[#This Row],[POA]],".",Tabla1[[#This Row],[SRS]],".",Tabla1[[#This Row],[AREA]],".",Tabla1[[#This Row],[TIPO]])) -> ... | G12: 1.2.2.2.04 | H12: GRAPADORA | I12: UNIDAD | J12: 4 | K12: 300 | L12: =+[3]!Tabla1[[#This Row],[Precio Unitario]]*[3]!Tabla1[[#This Row],[Cantidad de Insumos]] -> 1200 | M12: 239301 | N12: venta de servicios
B13: =IF(Tabla1[[#This Row],[Código_Actividad]]="","",CONCATENATE(Tabla1[[#This Row],[POA]],".",Tabla1[[#This Row],[SRS]],".",Tabla1[[#This Row],[AREA]],".",Tabla1[[#This Row],[TIPO]])) -> ... | G13: 1.2.2.2.06 | H13: FOLDER | I13: CAJA | J13: 5 | K13: 350 | L13: =+[3]!Tabla1[[#This Row],[Precio Unitario]]*[3]!Tabla1[[#This Row],[Cantidad de Insumos]] -> 1750 | M13: 239301 | N13: venta de servicios
B14: =IF(Tabla1[[#This Row],[Código_Actividad]]="","",CONCATENATE(Tabla1[[#This Row],[POA]],".",Tabla1[[#This Row],[SRS]],".",Tabla1[[#This Row],[AREA]],".",Tabla1[[#This Row],[TIPO]])) -> ... | G14: 1.2.2.2.06 | H14: PAPEL BOND | I14: RESMA | J14: 12 | K14: 300 | L14: =+[3]!Tabla1[[#This Row],[Precio Unitario]]*[3]!Tabla1[[#This Row],[Cantidad de Insumos]] -> 3600 | M14: 239301 | N14: venta de servicios
B15: =IF(Tabla1[[#This Row],[Código_Actividad]]="","",CONCATENATE(Tabla1[[#This Row],[POA]],".",Tabla1[[#This Row],[SRS]],".",Tabla1[[#This Row],[AREA]],".",Tabla1[[#This Row],[TIPO]])) -> ... | G15: 1.2.2.2.06 | H15: LAPICEROS AZUL | I15: CAJA | J15: 5 | K15: 200 | L15: =+[3]!Tabla1[[#This Row],[Precio Unitario]]*[3]!Tabla1[[#This Row],[Cantidad de Insumos]] -> 1000 | M15: 239301 | N15: venta de servicios
B16: =IF(Tabla1[[#This Row],[Código_Actividad]]="","",CONCATENATE(Tabla1[[#This Row],[POA]],".",Tabla1[[#This Row],[SRS]],".",Tabla1[[#This Row],[AREA]],".",Tabla1[[#This Row],[TIPO]])) -> ... | G16: 1.2.2.2.06 | H16: LAPICEROS NEGRO | I16: CAJA | J16: 2 | K16: 200 | L16: =+[3]!Tabla1[[#This Row],[Precio Unitario]]*[3]!Tabla1[[#This Row],[Cantidad de Insumos]] -> 400 | M16: 239301 | N16: venta de servicios
B17: =IF(Tabla1[[#This Row],[Código_Actividad]]="","",CONCATENATE(Tabla1[[#This Row],[POA]],".",Tabla1[[#This Row],[SRS]],".",Tabla1[[#This Row],[AREA]],".",Tabla1[[#This Row],[TIPO]])) -> ... | G17: 1.2.2.2.06 | H17: LAPICEROS ROJO | I17: CAJA | J17: 2 | K17: 200 | L17: =+[3]!Tabla1[[#This Row],[Precio Unitario]]*[3]!Tabla1[[#This Row],[Cantidad de Insumos]] -> 400 | M17: 239301 | N17: venta de servicios
B18: =IF(Tabla1[[#This Row],[Código_Actividad]]="","",CONCATENATE(Tabla1[[#This Row],[POA]],".",Tabla1[[#This Row],[SRS]],".",Tabla1[[#This Row],[AREA]],".",Tabla1[[#This Row],[TIPO]])) -> ... | G18: 1.2.2.2.06 | H18: GRAPADORA | I18: UNIDAD | J18: 4 | K18: 300 | L18: =+[3]!Tabla1[[#This Row],[Precio Unitario]]*[3]!Tabla1[[#This Row],[Cantidad de Insumos]] -> 1200 | M18: 239301 | N18: venta de servicios
B19: =IF(Tabla1[[#This Row],[Código_Actividad]]="","",CONCATENATE(Tabla1[[#This Row],[POA]],".",Tabla1[[#This Row],[SRS]],".",Tabla1[[#This Row],[AREA]],".",Tabla1[[#This Row],[TIPO]])) -> ... | G19: 1.2.2.2.06 | H19: GRAPAS | I19: CAJA | J19: 4 | K19: 80 | L19: =+[3]!Tabla1[[#This Row],[Precio Unitario]]*[3]!Tabla1[[#This Row],[Cantidad de Insumos]] -> 320 | M19: 239301 | N19: venta de servicios
... B147: =IF(Tabla1[[#This Row],[Código_Actividad]]="","",CONCATENATE(Tabla1[[#This Row],[POA]],".",Tabla1[[#This Row],[SRS]],".",Tabla1[[#This Row],[AREA]],".",Tabla1[[#This Row],[TIPO]])) -> ... | G147: 1.7.1.01 | H147: TONER | I147: UNIDAD | J147: 1 | K147: 20000 | L147: =+[3]!Tabla1[[#This Row],[Precio Unitario]]*[3]!Tabla1[[#This Row],[Cantidad de Insumos]] -> 20000 | M147: 239301 | N147: venta de servicios
B148: =IF(Tabla1[[#This Row],[Código_Actividad]]="","",CONCATENATE(Tabla1[[#This Row],[POA]],".",Tabla1[[#This Row],[SRS]],".",Tabla1[[#This Row],[AREA]],".",Tabla1[[#This Row],[TIPO]])) -> ... | G148: 1.7.1.01 | H148: CALCULADORA | I148: UNIDAD | J148: 3 | K148: 1200 | L148: 1200 | M148: 239301 | N148: venta de servicios
B149: =IF(Tabla1[[#This Row],[Código_Actividad]]="","",CONCATENATE(Tabla1[[#This Row],[POA]],".",Tabla1[[#This Row],[SRS]],".",Tabla1[[#This Row],[AREA]],".",Tabla1[[#This Row],[TIPO]])) -> ... | G149: 1.8.2.01 | H149: FOLDER | I149: CAJA | J149: 10 | K149: 350 | L149: =+[3]!Tabla1[[#This Row],[Precio Unitario]]*[3]!Tabla1[[#This Row],[Cantidad de Insumos]] -> 3500 | M149: 239301 | N149: venta de servicios
B150: =IF(Tabla1[[#This Row],[Código_Actividad]]="","",CONCATENATE(Tabla1[[#This Row],[POA]],".",Tabla1[[#This Row],[SRS]],".",Tabla1[[#This Row],[AREA]],".",Tabla1[[#This Row],[TIPO]])) -> ... | G150: 1.8.2.01 | H150: PAPEL BOND | I150: RESMA | J150: 10 | K150: 300 | L150: =+[3]!Tabla1[[#This Row],[Precio Unitario]]*[3]!Tabla1[[#This Row],[Cantidad de Insumos]] -> 3000 | M150: 239301 | N150: venta de servicios
B151: =IF(Tabla1[[#This Row],[Código_Actividad]]="","",CONCATENATE(Tabla1[[#This Row],[POA]],".",Tabla1[[#This Row],[SRS]],".",Tabla1[[#This Row],[AREA]],".",Tabla1[[#This Row],[TIPO]])) -> ... | G151: 1.8.2.01 | H151: LAPICEROS AZUL | I151: CAJA | J151: 5 | K151: 200 | L151: =+[3]!Tabla1[[#This Row],[Precio Unitario]]*[3]!Tabla1[[#This Row],[Cantidad de Insumos]] -> 1000 | M151: 239301 | N151: venta de servicios
B152: =IF(Tabla1[[#This Row],[Código_Actividad]]="","",CONCATENATE(Tabla1[[#This Row],[POA]],".",Tabla1[[#This Row],[SRS]],".",Tabla1[[#This Row],[AREA]],".",Tabla1[[#This Row],[TIPO]])) -> ... | G152: 1.8.2.01 | H152: LAPICEROS NEGRO | I152: CAJA | J152: 3 | K152: 200 | L152: =+[3]!Tabla1[[#This Row],[Precio Unitario]]*[3]!Tabla1[[#This Row],[Cantidad de Insumos]] -> 600 | M152: 239301 | N152: venta de servicios
B153: =IF(Tabla1[[#This Row],[Código_Actividad]]="","",CONCATENATE(Tabla1[[#This Row],[POA]],".",Tabla1[[#This Row],[SRS]],".",Tabla1[[#This Row],[AREA]],".",Tabla1[[#This Row],[TIPO]])) -> ... | G153: 1.8.2.01 | H153: LAPICEROS ROJO | I153: CAJA | J153: 5 | K153: 200 | L153: =+[3]!Tabla1[[#This Row],[Precio Unitario]]*[3]!Tabla1[[#This Row],[Cantidad de Insumos]] -> 1000 | M153: 239301 | N153: venta de servicios
B154: =IF(Tabla1[[#This Row],[Código_Actividad]]="","",CONCATENATE(Tabla1[[#This Row],[POA]],".",Tabla1[[#This Row],[SRS]],".",Tabla1[[#This Row],[AREA]],".",Tabla1[[#This Row],[TIPO]])) -> ... | G154: 1.8.2.01 | H154: GRAPADORA | I154: UNIDAD | J154: 5 | K154: 300 | L154: =+[3]!Tabla1[[#This Row],[Precio Unitario]]*[3]!Tabla1[[#This Row],[Cantidad de Insumos]] -> 1500 | M154: 239301 | N154: venta de servicios
B155: =IF(Tabla1[[#This Row],[Código_Actividad]]="","",CONCATENATE(Tabla1[[#This Row],[POA]],".",Tabla1[[#This Row],[SRS]],".",Tabla1[[#This Row],[AREA]],".",Tabla1[[#This Row],[TIPO]])) -> ... | G155: 1.8.2.01 | H155: GRAPAS | I155: CAJA | J155: 10 | K155: 80 | L155: =+[3]!Tabla1[[#This Row],[Precio Unitario]]*[3]!Tabla1[[#This Row],[Cantidad de Insumos]] -> 800 | M155: 239301 | N155: venta de servicios
B156: =IF(Tabla1[[#This Row],[Código_Actividad]]="","",CONCATENATE(Tabla1[[#This Row],[POA]],".",Tabla1[[#This Row],[SRS]],".",Tabla1[[#This Row],[AREA]],".",Tabla1[[#This Row],[TIPO]])) -> ... | G156: 1.8.2.01 | H156: GOMAS DE BORRAR | I156: UNIDAD | J156: 2 | K156: 50 | L156: =+[3]!Tabla1[[#This Row],[Precio Unitario]]*[3]!Tabla1[[#This Row],[Cantidad de Insumos]] -> 100 | M156: 239301 | N156: venta de servicios
B157: =IF(Tabla1[[#This Row],[Código_Actividad]]="","",CONCATENATE(Tabla1[[#This Row],[POA]],".",Tabla1[[#This Row],[SRS]],".",Tabla1[[#This Row],[AREA]],".",Tabla1[[#This Row],[TIPO]])) -> ... | G157: 1.8.2.01 | H157: Lapiz de carbon | I157: CAJA | J157: 5 | K157: 250 | L157: =+[3]!Tabla1[[#This Row],[Precio Unitario]]*[3]!Tabla1[[#This Row],[Cantidad de Insumos]] -> 1250 | M157: 239301 | N157: venta de servicios
B158: =IF(Tabla1[[#This Row],[Código_Actividad]]="","",CONCATENATE(Tabla1[[#This Row],[POA]],".",Tabla1[[#This Row],[SRS]],".",Tabla1[[#This Row],[AREA]],".",Tabla1[[#This Row],[TIPO]])) -> ... | G158: 1.8.2.01 | H158: TONEL | I158: UNIDAD | J158: 1 | K158: 20000 | L158: =+[3]!Tabla1[[#This Row],[Precio Unitario]]*[3]!Tabla1[[#This Row],[Cantidad de Insumos]] -> 20000 | M158: 239301 | N158: venta de servicios
B159: =IF(Tabla1[[#This Row],[Código_Actividad]]="","",CONCATENATE(Tabla1[[#This Row],[POA]],".",Tabla1[[#This Row],[SRS]],".",Tabla1[[#This Row],[AREA]],".",Tabla1[[#This Row],[TIPO]])) -> ... | G159: 1.8.2.01 | H159: LAPICEROS AZUL | I159: CAJA | J159: 5 | K159: 200 | L159: =+[3]!Tabla1[[#This Row],[Precio Unitario]]*[3]!Tabla1[[#This Row],[Cantidad de Insumos]] -> 1000 | M159: 239301 | N159: venta de servicios
B160: =IF(Tabla1[[#This Row],[Código_Actividad]]="","",CONCATENATE(Tabla1[[#This Row],[POA]],".",Tabla1[[#This Row],[SRS]],".",Tabla1[[#This Row],[AREA]],".",Tabla1[[#This Row],[TIPO]])) -> ... | G160: 1.8.2.01 | H160: LAPICEROS NEGRO | I160: CAJA | J160: 3 | K160: 200 | L160: =+[3]!Tabla1[[#This Row],[Precio Unitario]]*[3]!Tabla1[[#This Row],[Cantidad de Insumos]] -> 600 | M160: 239301 | N160: venta de servicios
... B352: =IF(Tabla1[[#This Row],[Código_Actividad]]="","",CONCATENATE(Tabla1[[#This Row],[POA]],".",Tabla1[[#This Row],[SRS]],".",Tabla1[[#This Row],[AREA]],".",Tabla1[[#This Row],[TIPO]])) -> ... | G352: 1.8.3.14 | H352: SACA GRAPAS | I352: UNIDADES | J352: 10 | K352: 80 | L352: =+[3]!Tabla1[[#This Row],[Precio Unitario]]*[3]!Tabla1[[#This Row],[Cantidad de Insumos]] -> 800 | M352: 239301 | N352: venta de servicios
B353: =IF(Tabla1[[#This Row],[Código_Actividad]]="","",CONCATENATE(Tabla1[[#This Row],[POA]],".",Tabla1[[#This Row],[SRS]],".",Tabla1[[#This Row],[AREA]],".",Tabla1[[#This Row],[TIPO]])) -> ... | G353: 1.8.3.14 | H353: CALCULADORA | I353: UNIDAD | J353: 2 | K353: 150 | L353: 1200 | M353: 239301 | N353: venta de servicios
B354: =IF(Tabla1[[#This Row],[Código_Actividad]]="","",CONCATENATE(Tabla1[[#This Row],[POA]],".",Tabla1[[#This Row],[SRS]],".",Tabla1[[#This Row],[AREA]],".",Tabla1[[#This Row],[TIPO]])) -> ... | G354: 1.8.3.15 | H354: Computador | I354: und | J354: 1 | K354: 30000 | L354: =+[3]!Tabla1[[#This Row],[Precio Unitario]]*[3]!Tabla1[[#This Row],[Cantidad de Insumos]] -> 30000 | M354: 239301 | N354: venta de servicios
B355: =IF(Tabla1[[#This Row],[Código_Actividad]]="","",CONCATENATE(Tabla1[[#This Row],[POA]],".",Tabla1[[#This Row],[SRS]],".",Tabla1[[#This Row],[AREA]],".",Tabla1[[#This Row],[TIPO]])) -> ... | G355: 1.8.3.15 | H355: Impresora | I355: und | J355: 1 | K355: 20000 | L355: =+[3]!Tabla1[[#This Row],[Precio Unitario]]*[3]!Tabla1[[#This Row],[Cantidad de Insumos]] -> 20000 | M355: 239301 | N355: venta de servicios
B356: =IF(Tabla1[[#This Row],[Código_Actividad]]="","",CONCATENATE(Tabla1[[#This Row],[POA]],".",Tabla1[[#This Row],[SRS]],".",Tabla1[[#This Row],[AREA]],".",Tabla1[[#This Row],[TIPO]])) -> ... | G356: 1.8.3.15 | H356: Lapiceros | I356: caja | J356: 2 | K356: 200 | L356: =+[3]!Tabla1[[#This Row],[Precio Unitario]]*[3]!Tabla1[[#This Row],[Cantidad de Insumos]] -> 400 | M356: 239301 | N356: venta de servicios
B357: =IF(Tabla1[[#This Row],[Código_Actividad]]="","",CONCATENATE(Tabla1[[#This Row],[POA]],".",Tabla1[[#This Row],[SRS]],".",Tabla1[[#This Row],[AREA]],".",Tabla1[[#This Row],[TIPO]])) -> ... | G357: 1.8.3.15 | H357: Papel Bon | I357: und | J357: 12 | K357: 300 | L357: =+[3]!Tabla1[[#This Row],[Precio Unitario]]*[3]!Tabla1[[#This Row],[Cantidad de Insumos]] -> 3600 | M357: 239301 | N357: venta de servicios
B358: =IF(Tabla1[[#This Row],[Código_Actividad]]="","",CONCATENATE(Tabla1[[#This Row],[POA]],".",Tabla1[[#This Row],[SRS]],".",Tabla1[[#This Row],[AREA]],".",Tabla1[[#This Row],[TIPO]])) -> ... | G358: 1.8.3.15 | H358: Toner | I358: und | J358: 1 | K358: 20000 | L358: =+[3]!Tabla1[[#This Row],[Precio Unitario]]*[3]!Tabla1[[#This Row],[Cantidad de Insumos]] -> 20000 | M358: 239301 | N358: venta de servicios
...

Sheet PPNE3
A1: =+PPNE1!B1 -> Plan Operativo Anual
A2: =+PPNE1!B2 -> Servicio Nacional de Salud
A3: =+PPNE1!B3 -> Dirección de Planificación y Desarrollo
A4: Estimación de Ingresos
A5: =+PPNE1!C5 -> 2026
A6: Servicio Regional de Salud: | E6: =+PPNE1!B6 -> Cibao Norte
A7: CEAS: | E7: =+PPNE1!B7 -> 0
A8: Grupo | B8: Subgrupo | C8: Cuenta | D8: Auxiliar | E8: Descripción Ingresos por Cuenta | F8: Valor RD$ | G8: %
A9: 3 | E9: Donaciones | F9: =+F10 -> 0 | G9: =G10 -> 0
B10: 31 | E10: Donaciones Corrientes | F10: =SUM(F11:F11) -> 0 | G10: =G11 -> 0
C11: 312 | E11: Donaciones corrientes de organismos internacionales | G11: =IFERROR(F11/$F$31*100,"0.00") -> 0
A12: 4 | E12: Transferencias | F12: =+F13+F19 -> 54454970 | G12: =G13+G19 -> 26.950572
B13: 41 | E13: Transferencias Corrientes | F13: =F14 -> 54454970 | G13: =SUM(G15:G18) -> 26.950572
C14: 413 | E14: Transferencias Corrientes Recibidas de Instituciones Públicas Descentralizas y Autonomas No Financieras | F14: =SUM(F15:F18) -> 54454970 | G14: =SUM(G16:G19) -> 26.950572
C15: 413 | D15: ´01 | E15: Aportes SNS Nomina | F15: 0 | G15: =IFERROR(F15/$F$31*100,"0.00") -> 0
C16: 413 | D16: ´02 | E16: Anticipos Financieros | F16: 19454970 | G16: =IFERROR(F16/$F$31*100,"0.00") -> 9.6285531
C17: 413 | D17: ´03 | E17: Aportes SNS Medicamentos | F17: 35000000 | G17: =IFERROR(F17/$F$31*100,"0.00") -> 17.322019
C18: 414 | E18: Transferencias Corrientes Recibidas de Instituciones Públicas de la Seguridad Social | F18: 0 | G18: =IFERROR(F18/$F$31*100,"0.00") -> 0
B19: 42 | E19: Transferencia de Capital | F19: =F20 -> 0 | G19: =G21+G22 -> 0
C20: 423 | E20: Tranferencia de Capital Recibidas de Instituciones Públicas Descentralizas y Autonomas No Financieras | F20: =SUM(F21:F22) -> 0 | G20: =+G21+G22 -> 0
C21: 423 | D21: ´01 | E21: Aportes SNS Equipamiento | F21: 0 | G21: =IFERROR(F21/$F$31*100,"0.00") -> 0
C22: 423 | D22: ´02 | E22: Aportes para otros gastos de inversión del SNS | F22: 0 | G22: =IFERROR(F22/$F$31*100,"0.00") -> 0
A23: 5 | E23: Ingresos por Contraprestación | F23: =+F24 -> 147600000 | G23: =G24 -> 73.049428
B24: 51 | E24: Venta de Bienes y Servicios | F24: =F25 -> 147600000 | G24: =G25 -> 73.049428
C25: 512 | E25: Venta de Servicios del Estado | F25: =SUM(F26:F30) -> 147600000 | G25: =G26 -> 73.049428
C26: 512 | D26: ´99 | E26: Otras ventas de servicios | F26: 0 | G26: =+G27+G28+G29+G30 -> 73.049428
C27: 513 | E27: Venta de Servicios a SENASA por afiliados regimen subsidiado | F27: 126000000 | G27: =IFERROR(F27/$F$31*100,"0.00") -> 62.359268
C28: 512 | E28: Venta de Servicios a SENASA por afiliados regimen contributivo | F28: 18000000 | G28: =IFERROR(F28/$F$31*100,"0.00") -> 8.9084668
C29: 512 | E29: Venta de Servicios a otras ARS por atencion a Regimen contributivo | F29: 3600000 | G29: =IFERROR(F29/$F$31*100,"0.00") -> 1.7816934
C30: 512 | E30: Venta de Servicios a ARL | F30: 0 | G30: =IFERROR(F30/$F$31*100,"0.00") -> 0
E31: Total Ingresos | F31: =+F23+F12+F9 -> 202054970 | G31: =+G23+G12+G9 -> 100

Sheet PPNE4
A1: =+PPNE1!B1 -> Plan Operativo Anual
A2: Servicio Nacional de Salud
A3: Dirección de Planificación y Desarrollo
A4: Consolidado Presupuesto Estimado de Ingresos y Gastos Nivel Especializado por Actividad Especifica
A5: =+PPNE1!C5 -> 2026
A6: Servicio Regional de Salud: | F6: =+PPNE1!B6 -> Cibao Norte
A7: Establecimiento: | F7: =+PPNE1!B7 -> 0
A8: Estimación de Ingresos
A9: Anticipos Financieros | G9: =+PPNE3!F16 -> 19454970
A10: Venta de Servicios y Otros Ingresos | G10: =+PPNE3!F25 -> 147600000
A11: Aportes SNS Nómina | G11: =+PPNE3!F15 -> 0
A12: Otros Aportes | G12: =+PPNE3!F9+PPNE3!F17+PPNE3!F21+PPNE3!F22 -> 35000000
A13: Transferencias Corrientes | G13: =+PPNE3!F18 -> 0
A14: Total Ingresos RD$ | G14: =SUM(G9:G13) -> 202054970
A15: Estimación de Gastos
A16: Tipo | B16: Objeto | C16: Cuenta | D16: Sub-Cuenta | E16: Auxiliar | F16: Descripción Gasto por Cuenta | G16: Consultas Externa | H16: Emergencias | I16: Hospitalización | J16: Apoyo Diagnóstico | L16: Servicios de Apoyo | N16: Total RD$ | O16: %
J17: Servicios de Laboratorios y Banco de Sangre | K17: Servicios de Imágenes RX | L17: Gestión de Usuario y Educación para la Salud | M17: Gestión Técnica y Administrativa
